BEGIN:VCALENDAR
CALSCALE:GREGORIAN
METHOD:PUBLISH
PRODID:-//185.25.166.209//NONSGML iCalcreator 2.6//
VERSION:2.0
UNIQUE_ID:session235@Hilshof.de
X-WR-TIMEZONE:Europe/Berlin
BEGIN:VEVENT
UID:event235-235@Hilshof.de
DTSTAMP:20260421T095954Z
CATEGORIES:Drachenweisheit
DESCRIPTION:Weidenflechten: Vogelfutterhäuschen\nKategorie: Drachenweishei
 t\nLink: https://hilshof.de/index.php?option=com_redevent&view=details&id=
 82:weidenflechten&xref=235&Itemid=6\n
DTSTART;TZID=Europe/Berlin:20151204T150000
DTEND;TZID=Europe/Berlin:20151204T180000
LOCATION:Hilshof in Winternam\,Winternam 132\,Kerken
SUMMARY:Weidenflechten: Vogelfutterhäuschen
URL:https://hilshof.de/index.php?option=com_redevent&view=details&id=82:wei
 denflechten&xref=235&Itemid=6
END:VEVENT
END:VCALENDAR
